BEGIN:VCALENDAR
VERSION:2.0
PRODID:-//Cook Inlet Tribal Council - ECPv6.15.20//NONSGML v1.0//EN
CALSCALE:GREGORIAN
METHOD:PUBLISH
X-WR-CALNAME:Cook Inlet Tribal Council
X-ORIGINAL-URL:https://citci.org
X-WR-CALDESC:Events for Cook Inlet Tribal Council
REFRESH-INTERVAL;VALUE=DURATION:PT1H
X-Robots-Tag:noindex
X-PUBLISHED-TTL:PT1H
BEGIN:VTIMEZONE
TZID:America/Anchorage
BEGIN:DAYLIGHT
TZOFFSETFROM:-0900
TZOFFSETTO:-0800
TZNAME:AKDT
DTSTART:20230312T110000
END:DAYLIGHT
BEGIN:STANDARD
TZOFFSETFROM:-0800
TZOFFSETTO:-0900
TZNAME:AKST
DTSTART:20231105T100000
END:STANDARD
BEGIN:DAYLIGHT
TZOFFSETFROM:-0900
TZOFFSETTO:-0800
TZNAME:AKDT
DTSTART:20240310T110000
END:DAYLIGHT
BEGIN:STANDARD
TZOFFSETFROM:-0800
TZOFFSETTO:-0900
TZNAME:AKST
DTSTART:20241103T100000
END:STANDARD
BEGIN:DAYLIGHT
TZOFFSETFROM:-0900
TZOFFSETTO:-0800
TZNAME:AKDT
DTSTART:20250309T110000
END:DAYLIGHT
BEGIN:STANDARD
TZOFFSETFROM:-0800
TZOFFSETTO:-0900
TZNAME:AKST
DTSTART:20251102T100000
END:STANDARD
END:VTIMEZONE
BEGIN:VEVENT
DTSTART;TZID=America/Anchorage:20240206T120000
DTEND;TZID=America/Anchorage:20240206T130000
DTSTAMP:20260422T005345
CREATED:20231213T222059Z
LAST-MODIFIED:20231213T223036Z
UID:10017209-1707220800-1707224400@citci.org
SUMMARY:Divorce/Divorce with Custody Virtual Pro Se Clinic
DESCRIPTION:Do you have questions about how to fill out and file paperwork for a divorce\, or child custody? Have you experienced domestic violence\, stalking\, or Elder financial abuse?  \nThe Alaska Native Justice Center can help!   \nANJC offers pro se legal clinics to anyone needing assistance. “Pro se” is a term used for people who are advocating for themselves in court\, without the representation of a lawyer. ANJC’s pro se legal clinics help people understand and navigate the legal system. Our clinics place knowledge in the hands of participants and supports them in effectively advocating on their own behalf. \nWinter/Spring 2024 virtual pro se clinic series: \n\nDivorce/Divorce with Custody: learn how to fill out and file divorce or divorce with custody paperwork with the Alaska Court System. \nChild Custody for Unmarried Couples Clinic: learn how to fill out and file custody paperwork with the Alaska Court System. \nDomestic Violence Protective Order (DVPO) Clinic: Step-by-step instruction about what a protection order is and how it works\, how to complete the necessary forms\, and how to file with the Alaska Court System. \nStalking Clinic: a presentation to help professionals and community members identify what stalking behavior looks like and ways it can add to a person feeling intimidated\, unsafe and lead to threats as well as interpersonal physical violence. It also gives ideas and advice on how to support those who are experiencing stalking and may want to file a Protective Order against their perpetrator.                                            \nProtecting Elders from Financial Abuse (Elders) Clinic: A pro se clinic targeted to help Elders obtain protective orders against different forms of financial abuse\, fraud and scams.  \n\nPlease see the schedule below for exact dates and times\, and to register. All clinics are hosted on Zoom and registration is necessary to attend.   \n\n\n\n\n\n\nJanuary   \n\nJan. 2\, 12-1 p.m.\, Divorce \nJan. 3\, 12-1 p.m.\, Custody \nJan. 16\, 12-1 p.m.\, Stalking  \nJan. 17\, 12-1 p.m.\, Elders \n\n\n\n\n\n\n\n\n\nFebruary  \n\nFeb. 6\, 12-1 p.m.\, Divorce \nFeb. 7\, 12-1 p.m.\, Custody \nFeb. 20\, 12-1 p.m.\, DVPO \nFeb. 21\, 12-1 p.m.\, Stalking \n\n\n\n\n\n\n\n\n\n\n\n\n\nMarch  \n\nMar. 5\, 12-1 p.m.\, Divorce \nMar. 6\, 12-1 p.m.\, Custody \nMar. 19\, 12-1 p.m.\, Elders \nMar. 20\, 12-1 p.m.\, DVPO \n\n\n\n\n\n\n\n\n\nApril   \n\nApr. 2\, 12-1 p.m.\, Divorce \nApr. 3\, 12-1 p.m.\, Custody \nApr. 16\, 12-1 p.m.\, Stalking \nApr. 17\, 12-1 p.m.\, Elders \n\n\n\n\n\n\n\n\n\n\n\n\n\nStill have questions? Please contact us at: anjcinfo@anjc.net  or 907-793-3550 
URL:https://citci.org/calendar/divorce-divorce-with-custody-virtual-pro-se-clinic/2024-02-06/
LOCATION:Zoom
CATEGORIES:Alaska Native Justice Center,General
ORGANIZER;CN="Alaska Native Justice Center":MAILTO:icwa@anjc.net
END:VEVENT
BEGIN:VEVENT
DTSTART;TZID=America/Anchorage:20240207T120000
DTEND;TZID=America/Anchorage:20240207T130000
DTSTAMP:20260422T005345
CREATED:20231213T222257Z
LAST-MODIFIED:20231213T224028Z
UID:10017213-1707307200-1707310800@citci.org
SUMMARY:Child Custody for Unmarried Couples Virtual Pro Se Clinic
DESCRIPTION:Do you have questions about how to fill out and file paperwork for a divorce\, or child custody? Have you experienced domestic violence\, stalking\, or Elder financial abuse?  \nThe Alaska Native Justice Center can help!   \nANJC offers pro se legal clinics to anyone needing assistance. “Pro se” is a term used for people who are advocating for themselves in court\, without the representation of a lawyer. ANJC’s pro se legal clinics help people understand and navigate the legal system. Our clinics place knowledge in the hands of participants and supports them in effectively advocating on their own behalf. \nWinter/Spring 2024 virtual pro se clinic series: \n\nDivorce/Divorce with Custody: learn how to fill out and file divorce or divorce with custody paperwork with the Alaska Court System. \nChild Custody for Unmarried Couples Clinic: learn how to fill out and file custody paperwork with the Alaska Court System. \nDomestic Violence Protective Order (DVPO) Clinic: Step-by-step instruction about what a protection order is and how it works\, how to complete the necessary forms\, and how to file with the Alaska Court System. \nStalking Clinic: a presentation to help professionals and community members identify what stalking behavior looks like and ways it can add to a person feeling intimidated\, unsafe and lead to threats as well as interpersonal physical violence. It also gives ideas and advice on how to support those who are experiencing stalking and may want to file a Protective Order against their perpetrator.                                            \nProtecting Elders from Financial Abuse (Elders) Clinic: A pro se clinic targeted to help Elders obtain protective orders against different forms of financial abuse\, fraud and scams.  \n\nPlease see the schedule below for exact dates and times\, and to register. All clinics are hosted on Zoom and registration is necessary to attend.   \n\n\n\n\n\n\nJanuary   \n\nJan. 2\, 12-1 p.m.\, Divorce \nJan. 3\, 12-1 p.m.\, Custody \nJan. 16\, 12-1 p.m.\, Stalking  \nJan. 17\, 12-1 p.m.\, Elders \n\n\n\n\n\n\n\n\n\nFebruary  \n\nFeb. 6\, 12-1 p.m.\, Divorce \nFeb. 7\, 12-1 p.m.\, Custody \nFeb. 20\, 12-1 p.m.\, DVPO \nFeb. 21\, 12-1 p.m.\, Stalking \n\n\n\n\n\n\n\n\n\n\n\n\n\nMarch  \n\nMar. 5\, 12-1 p.m.\, Divorce \nMar. 6\, 12-1 p.m.\, Custody \nMar. 19\, 12-1 p.m.\, Elders \nMar. 20\, 12-1 p.m.\, DVPO \n\n\n\n\n\n\n\n\n\nApril   \n\nApr. 2\, 12-1 p.m.\, Divorce \nApr. 3\, 12-1 p.m.\, Custody \nApr. 16\, 12-1 p.m.\, Stalking \nApr. 17\, 12-1 p.m.\, Elders \n\n\n\n\n\n\n\n\n\n\n\n\n\nStill have questions? Please contact us at: anjcinfo@anjc.net  or 907-793-3550 
URL:https://citci.org/calendar/child-custody-for-unmarried-couples-virtual-pro-se-clinic/2024-02-07/
LOCATION:Zoom
CATEGORIES:Alaska Native Justice Center,General
ORGANIZER;CN="Alaska Native Justice Center":MAILTO:icwa@anjc.net
END:VEVENT
BEGIN:VEVENT
DTSTART;TZID=America/Anchorage:20240220T120000
DTEND;TZID=America/Anchorage:20240220T130000
DTSTAMP:20260422T005345
CREATED:20231213T223849Z
LAST-MODIFIED:20231213T223849Z
UID:10017219-1708430400-1708434000@citci.org
SUMMARY:Domestic Violence Protective Order (DVPO) Virtual Pro Se Clinic
DESCRIPTION:Do you have questions about how to fill out and file paperwork for a divorce\, or child custody? Have you experienced domestic violence\, stalking\, or Elder financial abuse?  \nThe Alaska Native Justice Center can help!   \nANJC offers pro se legal clinics to anyone needing assistance. “Pro se” is a term used for people who are advocating for themselves in court\, without the representation of a lawyer. ANJC’s pro se legal clinics help people understand and navigate the legal system. Our clinics place knowledge in the hands of participants and supports them in effectively advocating on their own behalf. \nWinter/Spring 2024 virtual pro se clinic series: \n\nDivorce/Divorce with Custody: learn how to fill out and file divorce or divorce with custody paperwork with the Alaska Court System. \nChild Custody for Unmarried Couples Clinic: learn how to fill out and file custody paperwork with the Alaska Court System. \nDomestic Violence Protective Order (DVPO) Clinic: Step-by-step instruction about what a protection order is and how it works\, how to complete the necessary forms\, and how to file with the Alaska Court System. \nStalking Clinic: a presentation to help professionals and community members identify what stalking behavior looks like and ways it can add to a person feeling intimidated\, unsafe and lead to threats as well as interpersonal physical violence. It also gives ideas and advice on how to support those who are experiencing stalking and may want to file a Protective Order against their perpetrator.                                            \nProtecting Elders from Financial Abuse (Elders) Clinic: A pro se clinic targeted to help Elders obtain protective orders against different forms of financial abuse\, fraud and scams.  \n\nPlease see the schedule below for exact dates and times\, and to register. All clinics are hosted on Zoom and registration is necessary to attend.   \n\n\n\n\n\n\nJanuary   \n\nJan. 2\, 12-1 p.m.\, Divorce \nJan. 3\, 12-1 p.m.\, Custody \nJan. 16\, 12-1 p.m.\, Stalking  \nJan. 17\, 12-1 p.m.\, Elders \n\n\n\n\n\n\n\n\n\nFebruary  \n\nFeb. 6\, 12-1 p.m.\, Divorce \nFeb. 7\, 12-1 p.m.\, Custody \nFeb. 20\, 12-1 p.m.\, DVPO \nFeb. 21\, 12-1 p.m.\, Stalking \n\n\n\n\n\n\n\n\n\n\n\n\n\nMarch  \n\nMar. 5\, 12-1 p.m.\, Divorce \nMar. 6\, 12-1 p.m.\, Custody \nMar. 19\, 12-1 p.m.\, Elders \nMar. 20\, 12-1 p.m.\, DVPO \n\n\n\n\n\n\n\n\n\nApril   \n\nApr. 2\, 12-1 p.m.\, Divorce \nApr. 3\, 12-1 p.m.\, Custody \nApr. 16\, 12-1 p.m.\, Stalking \nApr. 17\, 12-1 p.m.\, Elders \n\n\n\n\n\n\n\n\n\n\n\n\n\nStill have questions? Please contact us at: anjcinfo@anjc.net  or 907-793-3550 
URL:https://citci.org/calendar/domestic-violence-protective-order-dvpo-virtual-pro-se-clinic/2024-02-20/
LOCATION:Zoom
CATEGORIES:Alaska Native Justice Center,General
ORGANIZER;CN="Alaska Native Justice Center":MAILTO:icwa@anjc.net
END:VEVENT
BEGIN:VEVENT
DTSTART;TZID=America/Anchorage:20240221T120000
DTEND;TZID=America/Anchorage:20240221T130000
DTSTAMP:20260422T005345
CREATED:20231213T222435Z
LAST-MODIFIED:20231213T223432Z
UID:10017215-1708516800-1708520400@citci.org
SUMMARY:Stalking Virtual Pro Se Clinic
DESCRIPTION:Do you have questions about how to fill out and file paperwork for a divorce\, or child custody? Have you experienced domestic violence\, stalking\, or Elder financial abuse?  \nThe Alaska Native Justice Center can help!   \nANJC offers pro se legal clinics to anyone needing assistance. “Pro se” is a term used for people who are advocating for themselves in court\, without the representation of a lawyer. ANJC’s pro se legal clinics help people understand and navigate the legal system. Our clinics place knowledge in the hands of participants and supports them in effectively advocating on their own behalf. \nWinter/Spring 2024 virtual pro se clinic series: \n\nDivorce/Divorce with Custody: learn how to fill out and file divorce or divorce with custody paperwork with the Alaska Court System. \nChild Custody for Unmarried Couples Clinic: learn how to fill out and file custody paperwork with the Alaska Court System. \nDomestic Violence Protective Order (DVPO) Clinic: Step-by-step instruction about what a protection order is and how it works\, how to complete the necessary forms\, and how to file with the Alaska Court System. \nStalking Clinic: a presentation to help professionals and community members identify what stalking behavior looks like and ways it can add to a person feeling intimidated\, unsafe and lead to threats as well as interpersonal physical violence. It also gives ideas and advice on how to support those who are experiencing stalking and may want to file a Protective Order against their perpetrator.                                            \nProtecting Elders from Financial Abuse (Elders) Clinic: A pro se clinic targeted to help Elders obtain protective orders against different forms of financial abuse\, fraud and scams.  \n\nPlease see the schedule below for exact dates and times\, and to register. All clinics are hosted on Zoom and registration is necessary to attend.   \n\n\n\n\n\n\nJanuary   \n\nJan. 2\, 12-1 p.m.\, Divorce \nJan. 3\, 12-1 p.m.\, Custody \nJan. 16\, 12-1 p.m.\, Stalking  \nJan. 17\, 12-1 p.m.\, Elders \n\n\n\n\n\n\n\n\n\nFebruary  \n\nFeb. 6\, 12-1 p.m.\, Divorce \nFeb. 7\, 12-1 p.m.\, Custody \nFeb. 20\, 12-1 p.m.\, DVPO \nFeb. 21\, 12-1 p.m.\, Stalking \n\n\n\n\n\n\n\n\n\n\n\n\n\nMarch  \n\nMar. 5\, 12-1 p.m.\, Divorce \nMar. 6\, 12-1 p.m.\, Custody \nMar. 19\, 12-1 p.m.\, Elders \nMar. 20\, 12-1 p.m.\, DVPO \n\n\n\n\n\n\n\n\n\nApril   \n\nApr. 2\, 12-1 p.m.\, Divorce \nApr. 3\, 12-1 p.m.\, Custody \nApr. 16\, 12-1 p.m.\, Stalking \nApr. 17\, 12-1 p.m.\, Elders \n\n\n\n\n\n\n\n\n\n\n\n\n\nStill have questions? Please contact us at: anjcinfo@anjc.net  or 907-793-3550 
URL:https://citci.org/calendar/stalking-virtual-pro-se-clinic/2024-02-21/
LOCATION:Zoom
CATEGORIES:Alaska Native Justice Center,General
END:VEVENT
END:VCALENDAR