BEGIN:VCALENDAR
VERSION:2.0
PRODID:-//Cook Inlet Tribal Council - ECPv6.15.20//NONSGML v1.0//EN
CALSCALE:GREGORIAN
METHOD:PUBLISH
X-WR-CALNAME:Cook Inlet Tribal Council
X-ORIGINAL-URL:https://citci.org
X-WR-CALDESC:Events for Cook Inlet Tribal Council
REFRESH-INTERVAL;VALUE=DURATION:PT1H
X-Robots-Tag:noindex
X-PUBLISHED-TTL:PT1H
BEGIN:VTIMEZONE
TZID:America/Anchorage
BEGIN:DAYLIGHT
TZOFFSETFROM:-0900
TZOFFSETTO:-0800
TZNAME:AKDT
DTSTART:20230312T110000
END:DAYLIGHT
BEGIN:STANDARD
TZOFFSETFROM:-0800
TZOFFSETTO:-0900
TZNAME:AKST
DTSTART:20231105T100000
END:STANDARD
BEGIN:DAYLIGHT
TZOFFSETFROM:-0900
TZOFFSETTO:-0800
TZNAME:AKDT
DTSTART:20240310T110000
END:DAYLIGHT
BEGIN:STANDARD
TZOFFSETFROM:-0800
TZOFFSETTO:-0900
TZNAME:AKST
DTSTART:20241103T100000
END:STANDARD
BEGIN:DAYLIGHT
TZOFFSETFROM:-0900
TZOFFSETTO:-0800
TZNAME:AKDT
DTSTART:20250309T110000
END:DAYLIGHT
BEGIN:STANDARD
TZOFFSETFROM:-0800
TZOFFSETTO:-0900
TZNAME:AKST
DTSTART:20251102T100000
END:STANDARD
END:VTIMEZONE
BEGIN:VEVENT
DTSTART;TZID=America/Anchorage:20240523T180000
DTEND;TZID=America/Anchorage:20240523T193000
DTSTAMP:20260424T003712
CREATED:20240523T203808Z
LAST-MODIFIED:20240523T203808Z
UID:10019509-1716487200-1716492600@citci.org
SUMMARY:Peer Support: Open Group
DESCRIPTION:Join our Anchorage Peer Support meeting and get support for your sobriety.
URL:https://citci.org/calendar/peer-support-open-group/2024-05-23/
LOCATION:CITC\, 3600 San Jeronimo Drive\, Anchorage\, AK\, 99508
CATEGORIES:Recovery
ORGANIZER;CN="Recovery Services":MAILTO:recovery@citci.org
END:VEVENT
BEGIN:VEVENT
DTSTART;TZID=America/Anchorage:20240527T090000
DTEND;TZID=America/Anchorage:20240527T100000
DTSTAMP:20260424T003712
CREATED:20230818T202704Z
LAST-MODIFIED:20231117T202932Z
UID:10006694-1716800400-1716804000@citci.org
SUMMARY:Peer Support: Recovery Refresh (virtual)
DESCRIPTION:This quick virtual meeting is offered via Zoom and provides support and a safe space to check in about your recovery. \nLocation: Zoom\nMeeting ID: 220 310 0081\nPasscode: 304694 \n  \nFor more information\, please contact the Peer Helpline at (907) 793-3646. \n 
URL:https://citci.org/calendar/peer-support-recovery-refresh-virtual/2024-05-27/
LOCATION:Zoom
CATEGORIES:Recovery
ORGANIZER;CN="Recovery Services":MAILTO:recovery@citci.org
END:VEVENT
BEGIN:VEVENT
DTSTART;TZID=America/Anchorage:20240528T113000
DTEND;TZID=America/Anchorage:20240528T133000
DTSTAMP:20260424T003712
CREATED:20240523T203326Z
LAST-MODIFIED:20240523T203326Z
UID:10019479-1716895800-1716903000@citci.org
SUMMARY:Narcotics Anonymous Meeting: Free Transportation
DESCRIPTION:Once a week\, CITC’s Peer Support team offers FREE TRANSPORTATION to a community Narcotics Anonymous meeting at the First American Baptist Church. Meet at CITC to catch a ride to this 12-step program meeting. \n \n  \n 
URL:https://citci.org/calendar/narcotics-anonymous-meeting-free-transportation/2024-05-28/
LOCATION:CITC\, 3600 San Jeronimo Drive\, Anchorage\, AK\, 99508
CATEGORIES:Recovery
ORGANIZER;CN="Recovery Services":MAILTO:recovery@citci.org
END:VEVENT
BEGIN:VEVENT
DTSTART;TZID=America/Anchorage:20240529T113000
DTEND;TZID=America/Anchorage:20240529T133000
DTSTAMP:20260424T003712
CREATED:20240403T173851Z
LAST-MODIFIED:20240523T202409Z
UID:10018913-1716982200-1716989400@citci.org
SUMMARY:Alcoholics Anonymous Meeting: Free Transportation
DESCRIPTION:Once a week\, CITC’s Peer Support team offers FREE TRANSPORTATION to a community Alcoholics Anonymous meeting at the Alano Club in Spenard. Meet at CITC to catch a ride to this 12-step program meeting. \n \n  \n 
URL:https://citci.org/calendar/alcoholics-anonymous-meeting-free-transportation/2024-05-29/
LOCATION:CITC\, 3600 San Jeronimo Drive\, Anchorage\, AK\, 99508
CATEGORIES:Recovery
ORGANIZER;CN="Recovery Services":MAILTO:recovery@citci.org
END:VEVENT
BEGIN:VEVENT
DTSTART;TZID=America/Anchorage:20240604T113000
DTEND;TZID=America/Anchorage:20240604T133000
DTSTAMP:20260424T003712
CREATED:20240523T203326Z
LAST-MODIFIED:20240523T203326Z
UID:10019480-1717500600-1717507800@citci.org
SUMMARY:Narcotics Anonymous Meeting: Free Transportation
DESCRIPTION:Once a week\, CITC’s Peer Support team offers FREE TRANSPORTATION to a community Narcotics Anonymous meeting at the First American Baptist Church. Meet at CITC to catch a ride to this 12-step program meeting. \n \n  \n 
URL:https://citci.org/calendar/narcotics-anonymous-meeting-free-transportation/2024-06-04/
LOCATION:CITC\, 3600 San Jeronimo Drive\, Anchorage\, AK\, 99508
CATEGORIES:Recovery
ORGANIZER;CN="Recovery Services":MAILTO:recovery@citci.org
END:VEVENT
BEGIN:VEVENT
DTSTART;TZID=America/Anchorage:20240605T113000
DTEND;TZID=America/Anchorage:20240605T133000
DTSTAMP:20260424T003712
CREATED:20240403T173851Z
LAST-MODIFIED:20240523T202409Z
UID:10018914-1717587000-1717594200@citci.org
SUMMARY:Alcoholics Anonymous Meeting: Free Transportation
DESCRIPTION:Once a week\, CITC’s Peer Support team offers FREE TRANSPORTATION to a community Alcoholics Anonymous meeting at the Alano Club in Spenard. Meet at CITC to catch a ride to this 12-step program meeting. \n \n  \n 
URL:https://citci.org/calendar/alcoholics-anonymous-meeting-free-transportation/2024-06-05/
LOCATION:CITC\, 3600 San Jeronimo Drive\, Anchorage\, AK\, 99508
CATEGORIES:Recovery
ORGANIZER;CN="Recovery Services":MAILTO:recovery@citci.org
END:VEVENT
BEGIN:VEVENT
DTSTART;TZID=America/Anchorage:20240606T180000
DTEND;TZID=America/Anchorage:20240606T193000
DTSTAMP:20260424T003712
CREATED:20240523T203808Z
LAST-MODIFIED:20240523T203808Z
UID:10019510-1717696800-1717702200@citci.org
SUMMARY:Peer Support: Open Group
DESCRIPTION:Join our Anchorage Peer Support meeting and get support for your sobriety.
URL:https://citci.org/calendar/peer-support-open-group/2024-06-06/
LOCATION:CITC\, 3600 San Jeronimo Drive\, Anchorage\, AK\, 99508
CATEGORIES:Recovery
ORGANIZER;CN="Recovery Services":MAILTO:recovery@citci.org
END:VEVENT
BEGIN:VEVENT
DTSTART;TZID=America/Anchorage:20240611T113000
DTEND;TZID=America/Anchorage:20240611T133000
DTSTAMP:20260424T003712
CREATED:20240523T203326Z
LAST-MODIFIED:20240523T203326Z
UID:10019481-1718105400-1718112600@citci.org
SUMMARY:Narcotics Anonymous Meeting: Free Transportation
DESCRIPTION:Once a week\, CITC’s Peer Support team offers FREE TRANSPORTATION to a community Narcotics Anonymous meeting at the First American Baptist Church. Meet at CITC to catch a ride to this 12-step program meeting. \n \n  \n 
URL:https://citci.org/calendar/narcotics-anonymous-meeting-free-transportation/2024-06-11/
LOCATION:CITC\, 3600 San Jeronimo Drive\, Anchorage\, AK\, 99508
CATEGORIES:Recovery
ORGANIZER;CN="Recovery Services":MAILTO:recovery@citci.org
END:VEVENT
BEGIN:VEVENT
DTSTART;TZID=America/Anchorage:20240612T113000
DTEND;TZID=America/Anchorage:20240612T133000
DTSTAMP:20260424T003712
CREATED:20240403T173851Z
LAST-MODIFIED:20240523T202409Z
UID:10018915-1718191800-1718199000@citci.org
SUMMARY:Alcoholics Anonymous Meeting: Free Transportation
DESCRIPTION:Once a week\, CITC’s Peer Support team offers FREE TRANSPORTATION to a community Alcoholics Anonymous meeting at the Alano Club in Spenard. Meet at CITC to catch a ride to this 12-step program meeting. \n \n  \n 
URL:https://citci.org/calendar/alcoholics-anonymous-meeting-free-transportation/2024-06-12/
LOCATION:CITC\, 3600 San Jeronimo Drive\, Anchorage\, AK\, 99508
CATEGORIES:Recovery
ORGANIZER;CN="Recovery Services":MAILTO:recovery@citci.org
END:VEVENT
BEGIN:VEVENT
DTSTART;TZID=America/Anchorage:20240618T113000
DTEND;TZID=America/Anchorage:20240618T133000
DTSTAMP:20260424T003712
CREATED:20240523T203326Z
LAST-MODIFIED:20240523T203326Z
UID:10019482-1718710200-1718717400@citci.org
SUMMARY:Narcotics Anonymous Meeting: Free Transportation
DESCRIPTION:Once a week\, CITC’s Peer Support team offers FREE TRANSPORTATION to a community Narcotics Anonymous meeting at the First American Baptist Church. Meet at CITC to catch a ride to this 12-step program meeting. \n \n  \n 
URL:https://citci.org/calendar/narcotics-anonymous-meeting-free-transportation/2024-06-18/
LOCATION:CITC\, 3600 San Jeronimo Drive\, Anchorage\, AK\, 99508
CATEGORIES:Recovery
ORGANIZER;CN="Recovery Services":MAILTO:recovery@citci.org
END:VEVENT
BEGIN:VEVENT
DTSTART;TZID=America/Anchorage:20240619T113000
DTEND;TZID=America/Anchorage:20240619T133000
DTSTAMP:20260424T003712
CREATED:20240403T173851Z
LAST-MODIFIED:20240523T202409Z
UID:10018916-1718796600-1718803800@citci.org
SUMMARY:Alcoholics Anonymous Meeting: Free Transportation
DESCRIPTION:Once a week\, CITC’s Peer Support team offers FREE TRANSPORTATION to a community Alcoholics Anonymous meeting at the Alano Club in Spenard. Meet at CITC to catch a ride to this 12-step program meeting. \n \n  \n 
URL:https://citci.org/calendar/alcoholics-anonymous-meeting-free-transportation/2024-06-19/
LOCATION:CITC\, 3600 San Jeronimo Drive\, Anchorage\, AK\, 99508
CATEGORIES:Recovery
ORGANIZER;CN="Recovery Services":MAILTO:recovery@citci.org
END:VEVENT
BEGIN:VEVENT
DTSTART;TZID=America/Anchorage:20240620T180000
DTEND;TZID=America/Anchorage:20240620T193000
DTSTAMP:20260424T003712
CREATED:20240523T203808Z
LAST-MODIFIED:20240523T203808Z
UID:10019511-1718906400-1718911800@citci.org
SUMMARY:Peer Support: Open Group
DESCRIPTION:Join our Anchorage Peer Support meeting and get support for your sobriety.
URL:https://citci.org/calendar/peer-support-open-group/2024-06-20/
LOCATION:CITC\, 3600 San Jeronimo Drive\, Anchorage\, AK\, 99508
CATEGORIES:Recovery
ORGANIZER;CN="Recovery Services":MAILTO:recovery@citci.org
END:VEVENT
BEGIN:VEVENT
DTSTART;TZID=America/Anchorage:20240625T113000
DTEND;TZID=America/Anchorage:20240625T133000
DTSTAMP:20260424T003712
CREATED:20240523T203326Z
LAST-MODIFIED:20240523T203326Z
UID:10019483-1719315000-1719322200@citci.org
SUMMARY:Narcotics Anonymous Meeting: Free Transportation
DESCRIPTION:Once a week\, CITC’s Peer Support team offers FREE TRANSPORTATION to a community Narcotics Anonymous meeting at the First American Baptist Church. Meet at CITC to catch a ride to this 12-step program meeting. \n \n  \n 
URL:https://citci.org/calendar/narcotics-anonymous-meeting-free-transportation/2024-06-25/
LOCATION:CITC\, 3600 San Jeronimo Drive\, Anchorage\, AK\, 99508
CATEGORIES:Recovery
ORGANIZER;CN="Recovery Services":MAILTO:recovery@citci.org
END:VEVENT
BEGIN:VEVENT
DTSTART;TZID=America/Anchorage:20240626T113000
DTEND;TZID=America/Anchorage:20240626T133000
DTSTAMP:20260424T003712
CREATED:20240403T173851Z
LAST-MODIFIED:20240523T202409Z
UID:10018917-1719401400-1719408600@citci.org
SUMMARY:Alcoholics Anonymous Meeting: Free Transportation
DESCRIPTION:Once a week\, CITC’s Peer Support team offers FREE TRANSPORTATION to a community Alcoholics Anonymous meeting at the Alano Club in Spenard. Meet at CITC to catch a ride to this 12-step program meeting. \n \n  \n 
URL:https://citci.org/calendar/alcoholics-anonymous-meeting-free-transportation/2024-06-26/
LOCATION:CITC\, 3600 San Jeronimo Drive\, Anchorage\, AK\, 99508
CATEGORIES:Recovery
ORGANIZER;CN="Recovery Services":MAILTO:recovery@citci.org
END:VEVENT
BEGIN:VEVENT
DTSTART;TZID=America/Anchorage:20240627T180000
DTEND;TZID=America/Anchorage:20240627T193000
DTSTAMP:20260424T003712
CREATED:20240605T221309Z
LAST-MODIFIED:20240605T221309Z
UID:10019585-1719511200-1719516600@citci.org
SUMMARY:Annual Peer Support BBQ
DESCRIPTION:Join the CITC Peer Support team at its annual Peer Support BBQ! \nWhen: Thursday\, June 27\, from 6 – 7:30 p.m. \nWhere: Mountain View Lions Community Park\, 501 N Pine St. Anchorage\, AK 99508. \nFor more information or to RSVP\, please call or text the Peer Support Helpline at 907-793-3646.
URL:https://citci.org/calendar/annual-peer-support-bbq/
LOCATION:501 N Pine St. Anchorage\, AK 99508
CATEGORIES:Recovery
ORGANIZER;CN="Recovery Services":MAILTO:recovery@citci.org
END:VEVENT
BEGIN:VEVENT
DTSTART;TZID=America/Anchorage:20240702T113000
DTEND;TZID=America/Anchorage:20240702T133000
DTSTAMP:20260424T003712
CREATED:20240523T203326Z
LAST-MODIFIED:20240523T203326Z
UID:10019484-1719919800-1719927000@citci.org
SUMMARY:Narcotics Anonymous Meeting: Free Transportation
DESCRIPTION:Once a week\, CITC’s Peer Support team offers FREE TRANSPORTATION to a community Narcotics Anonymous meeting at the First American Baptist Church. Meet at CITC to catch a ride to this 12-step program meeting. \n \n  \n 
URL:https://citci.org/calendar/narcotics-anonymous-meeting-free-transportation/2024-07-02/
LOCATION:CITC\, 3600 San Jeronimo Drive\, Anchorage\, AK\, 99508
CATEGORIES:Recovery
ORGANIZER;CN="Recovery Services":MAILTO:recovery@citci.org
END:VEVENT
BEGIN:VEVENT
DTSTART;TZID=America/Anchorage:20240703T113000
DTEND;TZID=America/Anchorage:20240703T133000
DTSTAMP:20260424T003712
CREATED:20240403T173851Z
LAST-MODIFIED:20240523T202409Z
UID:10018918-1720006200-1720013400@citci.org
SUMMARY:Alcoholics Anonymous Meeting: Free Transportation
DESCRIPTION:Once a week\, CITC’s Peer Support team offers FREE TRANSPORTATION to a community Alcoholics Anonymous meeting at the Alano Club in Spenard. Meet at CITC to catch a ride to this 12-step program meeting. \n \n  \n 
URL:https://citci.org/calendar/alcoholics-anonymous-meeting-free-transportation/2024-07-03/
LOCATION:CITC\, 3600 San Jeronimo Drive\, Anchorage\, AK\, 99508
CATEGORIES:Recovery
ORGANIZER;CN="Recovery Services":MAILTO:recovery@citci.org
END:VEVENT
BEGIN:VEVENT
DTSTART;TZID=America/Anchorage:20240704T180000
DTEND;TZID=America/Anchorage:20240704T193000
DTSTAMP:20260424T003712
CREATED:20240523T203808Z
LAST-MODIFIED:20240523T203808Z
UID:10019512-1720116000-1720121400@citci.org
SUMMARY:Peer Support: Open Group
DESCRIPTION:Join our Anchorage Peer Support meeting and get support for your sobriety.
URL:https://citci.org/calendar/peer-support-open-group/2024-07-04/
LOCATION:CITC\, 3600 San Jeronimo Drive\, Anchorage\, AK\, 99508
CATEGORIES:Recovery
ORGANIZER;CN="Recovery Services":MAILTO:recovery@citci.org
END:VEVENT
BEGIN:VEVENT
DTSTART;TZID=America/Anchorage:20240709T113000
DTEND;TZID=America/Anchorage:20240709T133000
DTSTAMP:20260424T003712
CREATED:20240523T203326Z
LAST-MODIFIED:20240523T203326Z
UID:10019485-1720524600-1720531800@citci.org
SUMMARY:Narcotics Anonymous Meeting: Free Transportation
DESCRIPTION:Once a week\, CITC’s Peer Support team offers FREE TRANSPORTATION to a community Narcotics Anonymous meeting at the First American Baptist Church. Meet at CITC to catch a ride to this 12-step program meeting. \n \n  \n 
URL:https://citci.org/calendar/narcotics-anonymous-meeting-free-transportation/2024-07-09/
LOCATION:CITC\, 3600 San Jeronimo Drive\, Anchorage\, AK\, 99508
CATEGORIES:Recovery
ORGANIZER;CN="Recovery Services":MAILTO:recovery@citci.org
END:VEVENT
BEGIN:VEVENT
DTSTART;TZID=America/Anchorage:20240710T113000
DTEND;TZID=America/Anchorage:20240710T133000
DTSTAMP:20260424T003712
CREATED:20240403T173851Z
LAST-MODIFIED:20240523T202409Z
UID:10018919-1720611000-1720618200@citci.org
SUMMARY:Alcoholics Anonymous Meeting: Free Transportation
DESCRIPTION:Once a week\, CITC’s Peer Support team offers FREE TRANSPORTATION to a community Alcoholics Anonymous meeting at the Alano Club in Spenard. Meet at CITC to catch a ride to this 12-step program meeting. \n \n  \n 
URL:https://citci.org/calendar/alcoholics-anonymous-meeting-free-transportation/2024-07-10/
LOCATION:CITC\, 3600 San Jeronimo Drive\, Anchorage\, AK\, 99508
CATEGORIES:Recovery
ORGANIZER;CN="Recovery Services":MAILTO:recovery@citci.org
END:VEVENT
BEGIN:VEVENT
DTSTART;TZID=America/Anchorage:20240716T113000
DTEND;TZID=America/Anchorage:20240716T133000
DTSTAMP:20260424T003712
CREATED:20240523T203326Z
LAST-MODIFIED:20240523T203326Z
UID:10019486-1721129400-1721136600@citci.org
SUMMARY:Narcotics Anonymous Meeting: Free Transportation
DESCRIPTION:Once a week\, CITC’s Peer Support team offers FREE TRANSPORTATION to a community Narcotics Anonymous meeting at the First American Baptist Church. Meet at CITC to catch a ride to this 12-step program meeting. \n \n  \n 
URL:https://citci.org/calendar/narcotics-anonymous-meeting-free-transportation/2024-07-16/
LOCATION:CITC\, 3600 San Jeronimo Drive\, Anchorage\, AK\, 99508
CATEGORIES:Recovery
ORGANIZER;CN="Recovery Services":MAILTO:recovery@citci.org
END:VEVENT
BEGIN:VEVENT
DTSTART;TZID=America/Anchorage:20240717T113000
DTEND;TZID=America/Anchorage:20240717T133000
DTSTAMP:20260424T003712
CREATED:20240403T173851Z
LAST-MODIFIED:20240523T202409Z
UID:10018920-1721215800-1721223000@citci.org
SUMMARY:Alcoholics Anonymous Meeting: Free Transportation
DESCRIPTION:Once a week\, CITC’s Peer Support team offers FREE TRANSPORTATION to a community Alcoholics Anonymous meeting at the Alano Club in Spenard. Meet at CITC to catch a ride to this 12-step program meeting. \n \n  \n 
URL:https://citci.org/calendar/alcoholics-anonymous-meeting-free-transportation/2024-07-17/
LOCATION:CITC\, 3600 San Jeronimo Drive\, Anchorage\, AK\, 99508
CATEGORIES:Recovery
ORGANIZER;CN="Recovery Services":MAILTO:recovery@citci.org
END:VEVENT
BEGIN:VEVENT
DTSTART;TZID=America/Anchorage:20240718T180000
DTEND;TZID=America/Anchorage:20240718T193000
DTSTAMP:20260424T003712
CREATED:20240523T203808Z
LAST-MODIFIED:20240523T203808Z
UID:10019513-1721325600-1721331000@citci.org
SUMMARY:Peer Support: Open Group
DESCRIPTION:Join our Anchorage Peer Support meeting and get support for your sobriety.
URL:https://citci.org/calendar/peer-support-open-group/2024-07-18/
LOCATION:CITC\, 3600 San Jeronimo Drive\, Anchorage\, AK\, 99508
CATEGORIES:Recovery
ORGANIZER;CN="Recovery Services":MAILTO:recovery@citci.org
END:VEVENT
BEGIN:VEVENT
DTSTART;TZID=America/Anchorage:20240723T113000
DTEND;TZID=America/Anchorage:20240723T133000
DTSTAMP:20260424T003712
CREATED:20240523T203326Z
LAST-MODIFIED:20240523T203326Z
UID:10019487-1721734200-1721741400@citci.org
SUMMARY:Narcotics Anonymous Meeting: Free Transportation
DESCRIPTION:Once a week\, CITC’s Peer Support team offers FREE TRANSPORTATION to a community Narcotics Anonymous meeting at the First American Baptist Church. Meet at CITC to catch a ride to this 12-step program meeting. \n \n  \n 
URL:https://citci.org/calendar/narcotics-anonymous-meeting-free-transportation/2024-07-23/
LOCATION:CITC\, 3600 San Jeronimo Drive\, Anchorage\, AK\, 99508
CATEGORIES:Recovery
ORGANIZER;CN="Recovery Services":MAILTO:recovery@citci.org
END:VEVENT
BEGIN:VEVENT
DTSTART;TZID=America/Anchorage:20240724T113000
DTEND;TZID=America/Anchorage:20240724T133000
DTSTAMP:20260424T003712
CREATED:20240403T173851Z
LAST-MODIFIED:20240523T202409Z
UID:10018921-1721820600-1721827800@citci.org
SUMMARY:Alcoholics Anonymous Meeting: Free Transportation
DESCRIPTION:Once a week\, CITC’s Peer Support team offers FREE TRANSPORTATION to a community Alcoholics Anonymous meeting at the Alano Club in Spenard. Meet at CITC to catch a ride to this 12-step program meeting. \n \n  \n 
URL:https://citci.org/calendar/alcoholics-anonymous-meeting-free-transportation/2024-07-24/
LOCATION:CITC\, 3600 San Jeronimo Drive\, Anchorage\, AK\, 99508
CATEGORIES:Recovery
ORGANIZER;CN="Recovery Services":MAILTO:recovery@citci.org
END:VEVENT
BEGIN:VEVENT
DTSTART;TZID=America/Anchorage:20240730T113000
DTEND;TZID=America/Anchorage:20240730T133000
DTSTAMP:20260424T003712
CREATED:20240523T203326Z
LAST-MODIFIED:20240523T203326Z
UID:10019488-1722339000-1722346200@citci.org
SUMMARY:Narcotics Anonymous Meeting: Free Transportation
DESCRIPTION:Once a week\, CITC’s Peer Support team offers FREE TRANSPORTATION to a community Narcotics Anonymous meeting at the First American Baptist Church. Meet at CITC to catch a ride to this 12-step program meeting. \n \n  \n 
URL:https://citci.org/calendar/narcotics-anonymous-meeting-free-transportation/2024-07-30/
LOCATION:CITC\, 3600 San Jeronimo Drive\, Anchorage\, AK\, 99508
CATEGORIES:Recovery
ORGANIZER;CN="Recovery Services":MAILTO:recovery@citci.org
END:VEVENT
BEGIN:VEVENT
DTSTART;TZID=America/Anchorage:20240731T113000
DTEND;TZID=America/Anchorage:20240731T133000
DTSTAMP:20260424T003712
CREATED:20240403T173851Z
LAST-MODIFIED:20240523T202409Z
UID:10018922-1722425400-1722432600@citci.org
SUMMARY:Alcoholics Anonymous Meeting: Free Transportation
DESCRIPTION:Once a week\, CITC’s Peer Support team offers FREE TRANSPORTATION to a community Alcoholics Anonymous meeting at the Alano Club in Spenard. Meet at CITC to catch a ride to this 12-step program meeting. \n \n  \n 
URL:https://citci.org/calendar/alcoholics-anonymous-meeting-free-transportation/2024-07-31/
LOCATION:CITC\, 3600 San Jeronimo Drive\, Anchorage\, AK\, 99508
CATEGORIES:Recovery
ORGANIZER;CN="Recovery Services":MAILTO:recovery@citci.org
END:VEVENT
BEGIN:VEVENT
DTSTART;TZID=America/Anchorage:20240801T180000
DTEND;TZID=America/Anchorage:20240801T193000
DTSTAMP:20260424T003712
CREATED:20240523T203808Z
LAST-MODIFIED:20240523T203808Z
UID:10019514-1722535200-1722540600@citci.org
SUMMARY:Peer Support: Open Group
DESCRIPTION:Join our Anchorage Peer Support meeting and get support for your sobriety.
URL:https://citci.org/calendar/peer-support-open-group/2024-08-01/
LOCATION:CITC\, 3600 San Jeronimo Drive\, Anchorage\, AK\, 99508
CATEGORIES:Recovery
ORGANIZER;CN="Recovery Services":MAILTO:recovery@citci.org
END:VEVENT
BEGIN:VEVENT
DTSTART;TZID=America/Anchorage:20240806T113000
DTEND;TZID=America/Anchorage:20240806T133000
DTSTAMP:20260424T003712
CREATED:20240523T203326Z
LAST-MODIFIED:20240523T203326Z
UID:10019489-1722943800-1722951000@citci.org
SUMMARY:Narcotics Anonymous Meeting: Free Transportation
DESCRIPTION:Once a week\, CITC’s Peer Support team offers FREE TRANSPORTATION to a community Narcotics Anonymous meeting at the First American Baptist Church. Meet at CITC to catch a ride to this 12-step program meeting. \n \n  \n 
URL:https://citci.org/calendar/narcotics-anonymous-meeting-free-transportation/2024-08-06/
LOCATION:CITC\, 3600 San Jeronimo Drive\, Anchorage\, AK\, 99508
CATEGORIES:Recovery
ORGANIZER;CN="Recovery Services":MAILTO:recovery@citci.org
END:VEVENT
BEGIN:VEVENT
DTSTART;TZID=America/Anchorage:20240807T113000
DTEND;TZID=America/Anchorage:20240807T133000
DTSTAMP:20260424T003712
CREATED:20240403T173851Z
LAST-MODIFIED:20240523T202409Z
UID:10018923-1723030200-1723037400@citci.org
SUMMARY:Alcoholics Anonymous Meeting: Free Transportation
DESCRIPTION:Once a week\, CITC’s Peer Support team offers FREE TRANSPORTATION to a community Alcoholics Anonymous meeting at the Alano Club in Spenard. Meet at CITC to catch a ride to this 12-step program meeting. \n \n  \n 
URL:https://citci.org/calendar/alcoholics-anonymous-meeting-free-transportation/2024-08-07/
LOCATION:CITC\, 3600 San Jeronimo Drive\, Anchorage\, AK\, 99508
CATEGORIES:Recovery
ORGANIZER;CN="Recovery Services":MAILTO:recovery@citci.org
END:VEVENT
END:VCALENDAR